BEGIN:VCALENDAR
VERSION:2.0
PRODID:-//eventon.com NONSGML v1.0//EN
CALSCALE:GREGORIAN
METHOD:PUBLISH
BEGIN:VEVENT
UID:69e4cf5157d34
DTSTAMP:20260419T124921Z
DTSTART:20260627T100000Z
DTEND:20260627T190000Z
LOCATION:Plaça Montserrat Canals Plaça Montserrat Canals 1
SUMMARY:Mercat d'artistes i artesanis
DESCRIPTION:El dissabte 27 de juny\,  la plaça Montserrat Canals s’ompli
 rà de creativitat\,  colors i talent de proximitat amb el Mercat d’Artis
 tes i Artesans de l’Orgull Rural. Un espai on podreu descobrir il·lustra
 cions\,  roba queer\,  ceràmica\,  fanzins\,  joieria\,  peces úniques i 
 projectes creats amb amor i reivindicació. Durant tot el dia[..]\nhttps://
 orgullesplugui.cat/events/mercat-dartistes-i-artesans/
URL:https://orgullesplugui.cat/events/mercat-dartistes-i-artesans/
END:VEVENT
END:VCALENDAR