BEGIN:VCALENDAR
VERSION:2.0
PRODID:-//eventon.com NONSGML v1.0//EN
CALSCALE:GREGORIAN
METHOD:PUBLISH
BEGIN:VEVENT
UID:69e4d0525fb5e
DTSTAMP:20260419T125338Z
DTSTART:20260627T090000Z
DTEND:20260627T215900Z
LOCATION:
SUMMARY:TALLER: "Ball de Gitanes"
DESCRIPTION:Vine a descobrir el Ball de Gitanes\,  una de les danses popula
 rs més festives del nostre territori. En aquest taller d’iniciació ober
 t a tothom aprendrem els passos bàsics d’aquesta dansa col·lectiva\,  p
 ensada per ballar en grup\,  compartir riures i fer comunitat. No cal exper
 iència prèvia: només ganes de moure el[..]\nhttps://orgullesplugui.cat/e
 vents/taller-sardana-satanica/
URL:https://orgullesplugui.cat/events/taller-sardana-satanica/
END:VEVENT
END:VCALENDAR