BEGIN:VCALENDAR
VERSION:2.0
PRODID:-//eventon.com NONSGML v1.0//EN
CALSCALE:GREGORIAN
METHOD:PUBLISH
BEGIN:VEVENT
UID:69e4d0f753cde
DTSTAMP:20260419T125623Z
DTSTART:20260625T200000Z
DTEND:20260625T235900Z
LOCATION:
SUMMARY:PODCAST: Cardem en CatalÃ 
DESCRIPTION:Cardar en catalÃ  arriba a lâ€™Orgull Rural 2026 en format podc
 ast i promet ser un dels moments mÃ©s desacomplexats\,  divertits i llengut
 s del festival. A partir del seu univers irreverent i del llibre Cardem en 
 catalÃ . Vocabulari indispensable per follar sense pÃ¨ls a la llengua\,  lâ
 €™equip de CardemCat ens convida[..]\nhttps://orgullesplugui.cat/events/pod
 cast-cardem-en-catala/
URL:https://orgullesplugui.cat/events/podcast-cardem-en-catala/
END:VEVENT
END:VCALENDAR